BEGIN:VCALENDAR
VERSION:2.0
PRODID:-//wp-events-plugin.com//7.2.3.1//EN
BEGIN:VEVENT
UID:32@kanska.cz
DTSTART:20181010T080000Z
DTEND:20181010T130000Z
DTSTAMP:20180710T214131Z
URL:https://www.kanska.cz/akce/danove-triky-2018-danova-optimalizace/
SUMMARY:Daňové triky 2018 = daňová optimalizace
DESCRIPTION:Komu je seminář určen:\n\nprofíkům i laikům\, tzn. všem\
 , kteří se zajímají o zdaňování vlastních příjmů\, příjmů st
 ávajících či budoucích klientů (podnikatelů)\, všem\, kteří cht
 ějí vědět\, jak správně tyto příjmy optimalizovat a zároveň spr
 ávně vypočítat daň.\n\nCílem a programem semináře je:\n\n 	probrat
  zcela legální daňové triky roku 2018 zaměřené na praktické přík
 lady daně z příjmů fyzických osob\,\n 	upozornit na připravované l
 egislativní daňové a účetní změny\,\n 	diskuse\, dotazy a odpovědi
 .\n\n"Srdečné pozváni na seminář\, těším se na viděnou"  L. K.\n
 &nbsp\;
LOCATION:Technické služby města Liberec\, p. o.\, Erbenova 376/2\, Liber
 ec 8\, 460 08\, Liberecký kraj\, Česká republika
X-APPLE-STRUCTURED-LOCATION;VALUE=URI;X-ADDRESS=Erbenova 376/2\, Liberec 8\
 , 460 08\, Liberecký kraj\, Česká republika;X-APPLE-RADIUS=100;X-TITLE=
 Technické služby města Liberec\, p. o.:geo:0,0
END:VEVENT
END:VCALENDAR