BEGIN:VCALENDAR
VERSION:2.0
PRODID:-//wp-events-plugin.com//7.2.3.1//EN
BEGIN:VEVENT
UID:34@kanska.cz
DTSTART:20190109T080000Z
DTEND:20190109T130000Z
DTSTAMP:20181106T133317Z
URL:https://www.kanska.cz/akce/novinky-v-danovych-a-ucetnich-predpisech-ro
 ku-2019-2/
SUMMARY:Novinky v daňových a účetních předpisech roku 2019
DESCRIPTION:Komu je seminář určen:\n\n 	odborné i neodborné veřejnost
 i\, zkrátka všem\, kteří se o tuto problematiku zajímají.\n\nCílem 
 semináře je:\n\n 	připomenout si změny\, které nastaly v průběhu ro
 ku 2018 v daních\, v účetnictví a souvisejících předpisech\,\n 	sez
 námit se s daňovými a účetními novinkami platnými od 1. 1. 2019 a c
 hystanými změnami v průběhu roku 2019.\n\nProgram semináře:\n\n 	da
 ň z příjmů\,\n 	majetkové daně\,\n 	DPH\,\n 	účetnictví\,\n 	dal
 ší aktuální předpisy\,\n 	diskuse\, dotazy a odpovědi.\n\n"Srdečné
  pozvání na seminář\, těším se na viděnou"   L. K.\n&nbsp\;\n\n&n
 bsp\;\n\n&nbsp\;
LOCATION:Technické služby města Liberec\, p. o.\, Erbenova 376/2\, Liber
 ec 8\, 460 08\, Liberecký kraj\, Česká republika
X-APPLE-STRUCTURED-LOCATION;VALUE=URI;X-ADDRESS=Erbenova 376/2\, Liberec 8\
 , 460 08\, Liberecký kraj\, Česká republika;X-APPLE-RADIUS=100;X-TITLE=
 Technické služby města Liberec\, p. o.:geo:0,0
END:VEVENT
END:VCALENDAR