BEGIN:VCALENDAR
VERSION:2.0
PRODID:-//wp-events-plugin.com//7.2.3.1//EN
BEGIN:VEVENT
UID:36@kanska.cz
DTSTART:20191018T090000Z
DTEND:20191018T140000Z
DTSTAMP:20190826T110027Z
URL:https://www.kanska.cz/akce/seminar-zmeny-v-dph-roku-2019/
SUMMARY:Seminář "Změny v DPH roku 2019"
DESCRIPTION:V průběhu roku 2019 došlo k významným změnám v DPH\, p
 ředevším od 1. 4. 2019\, ale i od 1. 7. 2019. Čeká nás více jak 260
  legislativních změn.\n\nCílem semináře je seznámit se s novelou zá
 kona o DPH s dopadem do praxe vč. Kontrolního hlášení k DPH.\n\nSemin
 ář je určen  pro všechny zájemce o tuto problematiku.\n\n&nbsp\;\n\nN
 a semináři obdržíte materiály vč. občerstvení.\n\n&nbsp\;\n\n  
                                      
                     "Srdečné pozvání na seminář\
 , těším se na viděnou" L. K.\n\n&nbsp\;\n\n&nbsp\;\n\n&nbsp\;\n\n&nbsp
 \;\n\n&nbsp\;\n\n&nbsp\;
LOCATION:Technické služby města Liberec\, p. o.\, Erbenova 376/2\, Liber
 ec 8\, 460 08\, Liberecký kraj\, Česká republika
X-APPLE-STRUCTURED-LOCATION;VALUE=URI;X-ADDRESS=Erbenova 376/2\, Liberec 8\
 , 460 08\, Liberecký kraj\, Česká republika;X-APPLE-RADIUS=100;X-TITLE=
 Technické služby města Liberec\, p. o.:geo:0,0
END:VEVENT
END:VCALENDAR