BEGIN:VCALENDAR
VERSION:2.0
PRODID:-//wp-events-plugin.com//7.2.3.1//EN
BEGIN:VEVENT
UID:38@kanska.cz
DTSTART:20200117T080000Z
DTEND:20200117T130000Z
DTSTAMP:20200109T210022Z
URL:https://www.kanska.cz/akce/zmeny-v-danovych-predpisech-roku-2020-2/
SUMMARY:Seminář "Novinky v daňových předpisech roku 2020" - OBSAZENO (
 vypsán další termín na 20. 1. 2020)
DESCRIPTION:Komu je seminář určen:\n\n 	odborné i neodborné veřejnost
 i\, zkrátka všem\, kteří se o tuto problematiku zajímají a nechtěj
 í\, aby jim "ujel vlak".\n\nCílem semináře je:\n\n 	připomenou si zm
 ěny\, které nastaly v průběhu roku 2019 v daních a souvisejících p
 ředpisech\,\n 	seznámit se s daňovými novinkami platnými od 1. ledna 
 2020 a chystanými změnami v průběhu roku 2020.\n\nProgram semináře:\
 n\n 	daně z příjmů\,\n 	daně majetkové\,\n 	DPH\,\n 	další aktuál
 ní předpisy\,\n 	diskuse\, dotazy a odpovědi.\n\n           
                                      
   "Srdečné pozvání na seminář\, těším se na viděnou" L. K.\n\n&
 nbsp\;
LOCATION:Technické služby města Liberec\, p. o.\, Erbenova 376/2\, Liber
 ec 8\, 460 08\, Liberecký kraj\, Česká republika
X-APPLE-STRUCTURED-LOCATION;VALUE=URI;X-ADDRESS=Erbenova 376/2\, Liberec 8\
 , 460 08\, Liberecký kraj\, Česká republika;X-APPLE-RADIUS=100;X-TITLE=
 Technické služby města Liberec\, p. o.:geo:0,0
END:VEVENT
END:VCALENDAR